BEGIN:VCALENDAR
VERSION:2.0
PRODID:-//Wesley Chapel Black Chamber of Commerce - ECPv6.15.20//NONSGML v1.0//EN
CALSCALE:GREGORIAN
METHOD:PUBLISH
X-ORIGINAL-URL:https://wcbcc.org
X-WR-CALDESC:Events for Wesley Chapel Black Chamber of Commerce
REFRESH-INTERVAL;VALUE=DURATION:PT1H
X-Robots-Tag:noindex
X-PUBLISHED-TTL:PT1H
BEGIN:VTIMEZONE
TZID:America/New_York
BEGIN:DAYLIGHT
TZOFFSETFROM:-0500
TZOFFSETTO:-0400
TZNAME:EDT
DTSTART:20250309T070000
END:DAYLIGHT
BEGIN:STANDARD
TZOFFSETFROM:-0400
TZOFFSETTO:-0500
TZNAME:EST
DTSTART:20251102T060000
END:STANDARD
BEGIN:DAYLIGHT
TZOFFSETFROM:-0500
TZOFFSETTO:-0400
TZNAME:EDT
DTSTART:20260308T070000
END:DAYLIGHT
BEGIN:STANDARD
TZOFFSETFROM:-0400
TZOFFSETTO:-0500
TZNAME:EST
DTSTART:20261101T060000
END:STANDARD
BEGIN:DAYLIGHT
TZOFFSETFROM:-0500
TZOFFSETTO:-0400
TZNAME:EDT
DTSTART:20270314T070000
END:DAYLIGHT
BEGIN:STANDARD
TZOFFSETFROM:-0400
TZOFFSETTO:-0500
TZNAME:EST
DTSTART:20271107T060000
END:STANDARD
END:VTIMEZONE
BEGIN:VEVENT
DTSTART;TZID=America/New_York:20260430T170000
DTEND;TZID=America/New_York:20260430T190000
DTSTAMP:20260425T182215
CREATED:20260423T110249Z
LAST-MODIFIED:20260423T110633Z
UID:370-1777568400-1777575600@wcbcc.org
SUMMARY:Healthy Business\, Healthy Community
DESCRIPTION:We’re excited to announce the launch of our FREE new quarterly event series in partnership with AdventHealth Wesley Chapel to bring our community an engaging event where health and business come together in meaningful ways. \nJoin us as Dr. Olufunke Abiose shares her experience as a busy physician while balancing her career\, family and personal growth. \nWCBCC members are encouraged to attend whether you’re an hashtag#entrepreneur\, hashtag#businessowner or hashtag#careerprofessional\, this event is for you! \nClick here to register or scan the QR code and enjoy an evening of networking\, expert insights and valuable conversations designed to strengthen both business and our community.
URL:https://wcbcc.org/event/healthy-business-healthy-community/
LOCATION:AdventHealth Wesley Chapel\, 2590 Healing Way\, Wesley Chapel\, FL\, 33543\, United States
CATEGORIES:Quarterly Event,Series
ATTACH;FMTTYPE=image/png:https://wcbcc.org/wp-content/uploads/2026/04/HealthBusinessCommunity_Abiose-e1776942512895.png
ORGANIZER;CN="Wesley Chapel Black Chamber of Commerce":MAILTO:info@wcbcc.org
END:VEVENT
END:VCALENDAR